BEGIN:VCALENDAR
VERSION:2.0
PRODID:-//Deutscher Amateur-Radio-Club e. V. H24 - ECPv6.15.20//NONSGML v1.0//EN
CALSCALE:GREGORIAN
METHOD:PUBLISH
X-ORIGINAL-URL:https://darc-h24.de
X-WR-CALDESC:Veranstaltungen für Deutscher Amateur-Radio-Club e. V. H24
REFRESH-INTERVAL;VALUE=DURATION:PT1H
X-Robots-Tag:noindex
X-PUBLISHED-TTL:PT1H
BEGIN:VTIMEZONE
TZID:Europe/Berlin
BEGIN:DAYLIGHT
TZOFFSETFROM:+0100
TZOFFSETTO:+0200
TZNAME:CEST
DTSTART:20250330T010000
END:DAYLIGHT
BEGIN:STANDARD
TZOFFSETFROM:+0200
TZOFFSETTO:+0100
TZNAME:CET
DTSTART:20251026T010000
END:STANDARD
BEGIN:DAYLIGHT
TZOFFSETFROM:+0100
TZOFFSETTO:+0200
TZNAME:CEST
DTSTART:20260329T010000
END:DAYLIGHT
BEGIN:STANDARD
TZOFFSETFROM:+0200
TZOFFSETTO:+0100
TZNAME:CET
DTSTART:20261025T010000
END:STANDARD
BEGIN:DAYLIGHT
TZOFFSETFROM:+0100
TZOFFSETTO:+0200
TZNAME:CEST
DTSTART:20270328T010000
END:DAYLIGHT
BEGIN:STANDARD
TZOFFSETFROM:+0200
TZOFFSETTO:+0100
TZNAME:CET
DTSTART:20271031T010000
END:STANDARD
END:VTIMEZONE
BEGIN:VEVENT
DTSTART;TZID=Europe/Berlin:20260704T160000
DTEND;TZID=Europe/Berlin:20260705T155900
DTSTAMP:20260426T030348
CREATED:20260104T122029Z
LAST-MODIFIED:20260104T122029Z
UID:7076-1783180800-1783267140@darc-h24.de
SUMMARY:DARC VHF-\, UHF-\, SHF-Contest
DESCRIPTION:
URL:https://darc-h24.de/event/darc-vhf-uhf-shf-contest-2/
END:VEVENT
BEGIN:VEVENT
DTSTART;TZID=Europe/Berlin:20260715T193000
DTEND;TZID=Europe/Berlin:20260715T213000
DTSTAMP:20260426T030348
CREATED:20260102T115605Z
LAST-MODIFIED:20260102T115605Z
UID:7041-1784143800-1784151000@darc-h24.de
SUMMARY:OV-Abend mit Online-Übertragung
DESCRIPTION:Einwahl für Mitglieder via https://treff.darc.de/d/#/Teilnehmer/UkJZfEpb ab 19:15 Uhr möglich. Der Link wird auch mit der Einladung verteilt. \nFür Gäste ist eine Einwahl über den folgenden Link möglich:\nhttps://treff.darc.de/d/#/Gastlink/Z0c0xHZT
URL:https://darc-h24.de/event/ov-abend-mit-online-uebertragung-5/
LOCATION:Alter Dorfkrug am Kanal\, Knüppeldamm 9\, Wolfsburg\, 38442\, Deutschland
CATEGORIES:OV-Abende
END:VEVENT
BEGIN:VEVENT
DTSTART;TZID=Europe/Berlin:20260728T190000
DTEND;TZID=Europe/Berlin:20260728T210000
DTSTAMP:20260426T030348
CREATED:20260102T114252Z
LAST-MODIFIED:20260102T114252Z
UID:7014-1785265200-1785272400@darc-h24.de
SUMMARY:Contest-Stammtisch
DESCRIPTION:Uhrzeit: 19:00 Uhr\, Stammtisch auch Online\nOrt: Wasserturm\nLink Online: https://treff.darc.de/d/#/Teilnehmer/8GOVsDY4
URL:https://darc-h24.de/event/contest-stammtisch-7/
LOCATION:Wasserturm\, Herzogin-Clara-Str. 33b\, Wolfsburg\, 38442\, Deutschland
CATEGORIES:Contest-Stammtisch
END:VEVENT
END:VCALENDAR