BEGIN:VCALENDAR
VERSION:2.0
PRODID:-//Deutscher Amateur-Radio-Club e. V. H24 - ECPv6.15.20//NONSGML v1.0//EN
CALSCALE:GREGORIAN
METHOD:PUBLISH
X-ORIGINAL-URL:https://darc-h24.de
X-WR-CALDESC:Veranstaltungen für Deutscher Amateur-Radio-Club e. V. H24
REFRESH-INTERVAL;VALUE=DURATION:PT1H
X-Robots-Tag:noindex
X-PUBLISHED-TTL:PT1H
BEGIN:VTIMEZONE
TZID:Europe/Berlin
BEGIN:DAYLIGHT
TZOFFSETFROM:+0100
TZOFFSETTO:+0200
TZNAME:CEST
DTSTART:20250330T010000
END:DAYLIGHT
BEGIN:STANDARD
TZOFFSETFROM:+0200
TZOFFSETTO:+0100
TZNAME:CET
DTSTART:20251026T010000
END:STANDARD
BEGIN:DAYLIGHT
TZOFFSETFROM:+0100
TZOFFSETTO:+0200
TZNAME:CEST
DTSTART:20260329T010000
END:DAYLIGHT
BEGIN:STANDARD
TZOFFSETFROM:+0200
TZOFFSETTO:+0100
TZNAME:CET
DTSTART:20261025T010000
END:STANDARD
BEGIN:DAYLIGHT
TZOFFSETFROM:+0100
TZOFFSETTO:+0200
TZNAME:CEST
DTSTART:20270328T010000
END:DAYLIGHT
BEGIN:STANDARD
TZOFFSETFROM:+0200
TZOFFSETTO:+0100
TZNAME:CET
DTSTART:20271031T010000
END:STANDARD
END:VTIMEZONE
BEGIN:VEVENT
DTSTART;TZID=Europe/Berlin:20260502T160000
DTEND;TZID=Europe/Berlin:20260503T155900
DTSTAMP:20260425T232335
CREATED:20260104T121741Z
LAST-MODIFIED:20260104T121741Z
UID:7070-1777737600-1777823940@darc-h24.de
SUMMARY:UKW-Contest (2m)
DESCRIPTION:
URL:https://darc-h24.de/event/ukw-contest-2m/
CATEGORIES:Conteste, Fuchsjagden & Thementage
END:VEVENT
BEGIN:VEVENT
DTSTART;TZID=Europe/Berlin:20260520T193000
DTEND;TZID=Europe/Berlin:20260520T213000
DTSTAMP:20260425T232335
CREATED:20260102T115430Z
LAST-MODIFIED:20260102T115430Z
UID:7037-1779305400-1779312600@darc-h24.de
SUMMARY:OV-Abend mit Online-Übertragung
DESCRIPTION:Einwahl für Mitglieder via https://treff.darc.de/d/#/Teilnehmer/UkJZfEpb ab 19:15 Uhr möglich. Der Link wird auch mit der Einladung verteilt. \nFür Gäste ist eine Einwahl über den folgenden Link möglich:\nhttps://treff.darc.de/d/#/Gastlink/Z0c0xHZT
URL:https://darc-h24.de/event/ov-abend-mit-online-uebertragung-3/
LOCATION:Alter Dorfkrug am Kanal\, Knüppeldamm 9\, Wolfsburg\, 38442\, Deutschland
CATEGORIES:OV-Abende
END:VEVENT
BEGIN:VEVENT
DTSTART;TZID=Europe/Berlin:20260526T190000
DTEND;TZID=Europe/Berlin:20260526T210000
DTSTAMP:20260425T232335
CREATED:20260102T114015Z
LAST-MODIFIED:20260102T114433Z
UID:7010-1779822000-1779829200@darc-h24.de
SUMMARY:Contest-Stammtisch
DESCRIPTION:Uhrzeit: 19:00 Uhr Stammtisch auch Online\nOrt: Wasserturm\nLink Online: https://treff.darc.de/d/#/Teilnehmer/8GOVsDY4
URL:https://darc-h24.de/event/contest-stammtisch-5/
CATEGORIES:Contest-Stammtisch
END:VEVENT
END:VCALENDAR