BEGIN:VCALENDAR
VERSION:2.0
PRODID:-//Deutscher Amateur-Radio-Club e. V. H24 - ECPv6.15.20//NONSGML v1.0//EN
CALSCALE:GREGORIAN
METHOD:PUBLISH
X-WR-CALNAME:Deutscher Amateur-Radio-Club e. V. H24
X-ORIGINAL-URL:https://darc-h24.de
X-WR-CALDESC:Veranstaltungen für Deutscher Amateur-Radio-Club e. V. H24
REFRESH-INTERVAL;VALUE=DURATION:PT1H
X-Robots-Tag:noindex
X-PUBLISHED-TTL:PT1H
BEGIN:VTIMEZONE
TZID:Europe/Berlin
BEGIN:DAYLIGHT
TZOFFSETFROM:+0100
TZOFFSETTO:+0200
TZNAME:CEST
DTSTART:20250330T010000
END:DAYLIGHT
BEGIN:STANDARD
TZOFFSETFROM:+0200
TZOFFSETTO:+0100
TZNAME:CET
DTSTART:20251026T010000
END:STANDARD
BEGIN:DAYLIGHT
TZOFFSETFROM:+0100
TZOFFSETTO:+0200
TZNAME:CEST
DTSTART:20260329T010000
END:DAYLIGHT
BEGIN:STANDARD
TZOFFSETFROM:+0200
TZOFFSETTO:+0100
TZNAME:CET
DTSTART:20261025T010000
END:STANDARD
BEGIN:DAYLIGHT
TZOFFSETFROM:+0100
TZOFFSETTO:+0200
TZNAME:CEST
DTSTART:20270328T010000
END:DAYLIGHT
BEGIN:STANDARD
TZOFFSETFROM:+0200
TZOFFSETTO:+0100
TZNAME:CET
DTSTART:20271031T010000
END:STANDARD
END:VTIMEZONE
BEGIN:VEVENT
DTSTART;TZID=Europe/Berlin:20260307T100000
DTEND;TZID=Europe/Berlin:20260307T160000
DTSTAMP:20260426T004109
CREATED:20260105T140153Z
LAST-MODIFIED:20260105T140153Z
UID:7109-1772877600-1772899200@darc-h24.de
SUMMARY:Funkpeiljagd im Wolfsburger Stadtwald
DESCRIPTION:Terminblocker – Details folgen
URL:https://darc-h24.de/event/funkpeiljagd-im-wolfsburger-stadtwald/
CATEGORIES:Conteste, Fuchsjagden & Thementage
END:VEVENT
BEGIN:VEVENT
DTSTART;TZID=Europe/Berlin:20260307T150000
DTEND;TZID=Europe/Berlin:20260308T145900
DTSTAMP:20260426T004109
CREATED:20260104T114343Z
LAST-MODIFIED:20260104T121448Z
UID:7066-1772895600-1772981940@darc-h24.de
SUMMARY:DARC VHF-\, UHF-\, SHF-Contest
DESCRIPTION:
URL:https://darc-h24.de/event/darc-vhf-uhf-shf-contest/
END:VEVENT
BEGIN:VEVENT
DTSTART;TZID=Europe/Berlin:20260318T193000
DTEND;TZID=Europe/Berlin:20260318T213000
DTSTAMP:20260426T004109
CREATED:20260102T115301Z
LAST-MODIFIED:20260102T115301Z
UID:7033-1773862200-1773869400@darc-h24.de
SUMMARY:OV-Abend mit Online-Übertragung
DESCRIPTION:Einwahl für Mitglieder via https://treff.darc.de/d/#/Teilnehmer/UkJZfEpb ab 19:15 Uhr möglich. Der Link wird auch mit der Einladung verteilt. \nFür Gäste ist eine Einwahl über den folgenden Link möglich:\nhttps://treff.darc.de/d/#/Gastlink/Z0c0xHZT
URL:https://darc-h24.de/event/ov-abend-mit-online-uebertragung/
LOCATION:Alter Dorfkrug am Kanal\, Knüppeldamm 9\, Wolfsburg\, 38442\, Deutschland
CATEGORIES:OV-Abende
END:VEVENT
BEGIN:VEVENT
DTSTART;TZID=Europe/Berlin:20260331T190000
DTEND;TZID=Europe/Berlin:20260331T210000
DTSTAMP:20260426T004109
CREATED:20260102T102216Z
LAST-MODIFIED:20260102T114512Z
UID:7004-1774983600-1774990800@darc-h24.de
SUMMARY:Contest-Stammtisch
DESCRIPTION:Uhrzeit: 19:00 Uhr MESZ Stammtisch auch Online\nOrt: Wasserturm\nLink Online: https://treff.darc.de/d/#/Teilnehmer/8GOVsDY4
URL:https://darc-h24.de/event/contest-stammtisch-3/
LOCATION:Wasserturm\, Herzogin-Clara-Str. 33b\, Wolfsburg\, 38442\, Deutschland
CATEGORIES:Contest-Stammtisch
END:VEVENT
END:VCALENDAR