BEGIN:VCALENDAR
VERSION:2.0
PRODID:-//Deutscher Amateur-Radio-Club e. V. H24 - ECPv6.15.20//NONSGML v1.0//EN
CALSCALE:GREGORIAN
METHOD:PUBLISH
X-WR-CALNAME:Deutscher Amateur-Radio-Club e. V. H24
X-ORIGINAL-URL:https://darc-h24.de
X-WR-CALDESC:Veranstaltungen für Deutscher Amateur-Radio-Club e. V. H24
REFRESH-INTERVAL;VALUE=DURATION:PT1H
X-Robots-Tag:noindex
X-PUBLISHED-TTL:PT1H
BEGIN:VTIMEZONE
TZID:Europe/Berlin
BEGIN:DAYLIGHT
TZOFFSETFROM:+0100
TZOFFSETTO:+0200
TZNAME:CEST
DTSTART:20240331T010000
END:DAYLIGHT
BEGIN:STANDARD
TZOFFSETFROM:+0200
TZOFFSETTO:+0100
TZNAME:CET
DTSTART:20241027T010000
END:STANDARD
BEGIN:DAYLIGHT
TZOFFSETFROM:+0100
TZOFFSETTO:+0200
TZNAME:CEST
DTSTART:20250330T010000
END:DAYLIGHT
BEGIN:STANDARD
TZOFFSETFROM:+0200
TZOFFSETTO:+0100
TZNAME:CET
DTSTART:20251026T010000
END:STANDARD
BEGIN:DAYLIGHT
TZOFFSETFROM:+0100
TZOFFSETTO:+0200
TZNAME:CEST
DTSTART:20260329T010000
END:DAYLIGHT
BEGIN:STANDARD
TZOFFSETFROM:+0200
TZOFFSETTO:+0100
TZNAME:CET
DTSTART:20261025T010000
END:STANDARD
END:VTIMEZONE
BEGIN:VEVENT
DTSTART;TZID=Europe/Berlin:20251119T193000
DTEND;TZID=Europe/Berlin:20251119T213000
DTSTAMP:20260426T053044
CREATED:20241225T114421Z
LAST-MODIFIED:20241225T114421Z
UID:6824-1763580600-1763587800@darc-h24.de
SUMMARY:OV-Abend mit Online-Übertragung
DESCRIPTION:Einwahl via https://treff.darc.de/ ab 19:15 Uhr möglich. Der Link wird mit der Einladung verteilt.
URL:https://darc-h24.de/event/ov-abend-mit-online-uebertragung-20/
LOCATION:Alter Dorfkrug am Kanal\, Knüppeldamm 9\, Wolfsburg\, 38442\, Deutschland
CATEGORIES:Ortsverband H24,OV-Abende
END:VEVENT
END:VCALENDAR