BEGIN:VCALENDAR
VERSION:2.0
PRODID:-//Deutscher Amateur-Radio-Club e. V. H24 - ECPv6.15.20//NONSGML v1.0//EN
CALSCALE:GREGORIAN
METHOD:PUBLISH
X-WR-CALNAME:Deutscher Amateur-Radio-Club e. V. H24
X-ORIGINAL-URL:https://darc-h24.de
X-WR-CALDESC:Veranstaltungen für Deutscher Amateur-Radio-Club e. V. H24
REFRESH-INTERVAL;VALUE=DURATION:PT1H
X-Robots-Tag:noindex
X-PUBLISHED-TTL:PT1H
BEGIN:VTIMEZONE
TZID:Europe/Berlin
BEGIN:DAYLIGHT
TZOFFSETFROM:+0100
TZOFFSETTO:+0200
TZNAME:CEST
DTSTART:20250330T010000
END:DAYLIGHT
BEGIN:STANDARD
TZOFFSETFROM:+0200
TZOFFSETTO:+0100
TZNAME:CET
DTSTART:20251026T010000
END:STANDARD
BEGIN:DAYLIGHT
TZOFFSETFROM:+0100
TZOFFSETTO:+0200
TZNAME:CEST
DTSTART:20260329T010000
END:DAYLIGHT
BEGIN:STANDARD
TZOFFSETFROM:+0200
TZOFFSETTO:+0100
TZNAME:CET
DTSTART:20261025T010000
END:STANDARD
BEGIN:DAYLIGHT
TZOFFSETFROM:+0100
TZOFFSETTO:+0200
TZNAME:CEST
DTSTART:20270328T010000
END:DAYLIGHT
BEGIN:STANDARD
TZOFFSETFROM:+0200
TZOFFSETTO:+0100
TZNAME:CET
DTSTART:20271031T010000
END:STANDARD
BEGIN:DAYLIGHT
TZOFFSETFROM:+0100
TZOFFSETTO:+0200
TZNAME:CEST
DTSTART:20280326T010000
END:DAYLIGHT
BEGIN:STANDARD
TZOFFSETFROM:+0200
TZOFFSETTO:+0100
TZNAME:CET
DTSTART:20281029T010000
END:STANDARD
END:VTIMEZONE
BEGIN:VEVENT
DTSTART;TZID=Europe/Berlin:20261003T160000
DTEND;TZID=Europe/Berlin:20261004T155900
DTSTAMP:20260426T015108
CREATED:20260104T122825Z
LAST-MODIFIED:20260104T122825Z
UID:7086-1791043200-1791129540@darc-h24.de
SUMMARY:IARU-Region-1 UHF/Microwaves Contest
DESCRIPTION:
URL:https://darc-h24.de/event/iaru-region-1-uhf-microwaves-contest/
END:VEVENT
BEGIN:VEVENT
DTSTART;TZID=Europe/Berlin:20261017T170000
DTEND;TZID=Europe/Berlin:20261018T165900
DTSTAMP:20260426T015108
CREATED:20260104T122918Z
LAST-MODIFIED:20260104T122918Z
UID:7088-1792256400-1792342740@darc-h24.de
SUMMARY:DARC Worked All Germany Contest (WAG)
DESCRIPTION:
URL:https://darc-h24.de/event/darc-worked-all-germany-contest-wag/
END:VEVENT
BEGIN:VEVENT
DTSTART;TZID=Europe/Berlin:20261021T193000
DTEND;TZID=Europe/Berlin:20261021T213000
DTSTAMP:20260426T015108
CREATED:20260102T115806Z
LAST-MODIFIED:20260102T115806Z
UID:7047-1792611000-1792618200@darc-h24.de
SUMMARY:OV-Abend mit Online-Übertragung
DESCRIPTION:Einwahl für Mitglieder via https://treff.darc.de/d/#/Teilnehmer/UkJZfEpb ab 19:15 Uhr möglich. Der Link wird auch mit der Einladung verteilt. \nFür Gäste ist eine Einwahl über den folgenden Link möglich:\nhttps://treff.darc.de/d/#/Gastlink/Z0c0xHZT
URL:https://darc-h24.de/event/ov-abend-mit-online-uebertragung-8/
LOCATION:Alter Dorfkrug am Kanal\, Knüppeldamm 9\, Wolfsburg\, 38442\, Deutschland
CATEGORIES:OV-Abende
END:VEVENT
BEGIN:VEVENT
DTSTART;TZID=Europe/Berlin:20261027T190000
DTEND;TZID=Europe/Berlin:20261027T210000
DTSTAMP:20260426T015108
CREATED:20260102T114929Z
LAST-MODIFIED:20260102T114929Z
UID:7027-1793127600-1793134800@darc-h24.de
SUMMARY:Contest-Stammtisch
DESCRIPTION:Uhrzeit: 19:00 Uhr\, Stammtisch auch Online\nOrt: Wasserturm\nLink Online: https://treff.darc.de/d/#/Teilnehmer/8GOVsDY4
URL:https://darc-h24.de/event/contest-stammtisch-12/
LOCATION:Wasserturm\, Herzogin-Clara-Str. 33b\, Wolfsburg\, 38442\, Deutschland
CATEGORIES:Contest-Stammtisch
END:VEVENT
BEGIN:VEVENT
DTSTART;TZID=Europe/Berlin:20261107T160000
DTEND;TZID=Europe/Berlin:20270911T155900
DTSTAMP:20260426T015108
CREATED:20260104T123027Z
LAST-MODIFIED:20260104T123713Z
UID:7090-1794067200-1820678340@darc-h24.de
SUMMARY:IARU-Region-1 Marconi VHF CW Contest
DESCRIPTION:
URL:https://darc-h24.de/event/iaru-region-1-marconi-vhf-cw-contest/
CATEGORIES:Conteste, Fuchsjagden & Thementage
END:VEVENT
BEGIN:VEVENT
DTSTART;TZID=Europe/Berlin:20261114T010000
DTEND;TZID=Europe/Berlin:20261116T005900
DTSTAMP:20260426T015108
CREATED:20260104T123159Z
LAST-MODIFIED:20260104T123306Z
UID:7092-1794618000-1794790740@darc-h24.de
SUMMARY:Worked All Europe DX Contest RTTY
DESCRIPTION:
URL:https://darc-h24.de/event/worked-all-europe-dx-contest-rtty/
END:VEVENT
BEGIN:VEVENT
DTSTART;TZID=Europe/Berlin:20261118T193000
DTEND;TZID=Europe/Berlin:20261118T213000
DTSTAMP:20260426T015108
CREATED:20260102T115857Z
LAST-MODIFIED:20260102T115857Z
UID:7049-1795030200-1795037400@darc-h24.de
SUMMARY:OV-Abend mit Online-Übertragung
DESCRIPTION:Einwahl für Mitglieder via https://treff.darc.de/d/#/Teilnehmer/UkJZfEpb ab 19:15 Uhr möglich. Der Link wird auch mit der Einladung verteilt. \nFür Gäste ist eine Einwahl über den folgenden Link möglich:\nhttps://treff.darc.de/d/#/Gastlink/Z0c0xHZT
URL:https://darc-h24.de/event/ov-abend-mit-online-uebertragung-9/
LOCATION:Alter Dorfkrug am Kanal\, Knüppeldamm 9\, Wolfsburg\, 38442\, Deutschland
CATEGORIES:OV-Abende
END:VEVENT
BEGIN:VEVENT
DTSTART;TZID=Europe/Berlin:20261124T190000
DTEND;TZID=Europe/Berlin:20261124T210000
DTSTAMP:20260426T015108
CREATED:20260102T114836Z
LAST-MODIFIED:20260102T114836Z
UID:7024-1795546800-1795554000@darc-h24.de
SUMMARY:Contest-Stammtisch
DESCRIPTION:Uhrzeit: 19:00 Uhr\, Stammtisch auch Online\nOrt: Wasserturm\nLink Online: https://treff.darc.de/d/#/Teilnehmer/8GOVsDY4
URL:https://darc-h24.de/event/contest-stammtisch-11/
LOCATION:Wasserturm\, Herzogin-Clara-Str. 33b\, Wolfsburg\, 38442\, Deutschland
CATEGORIES:Contest-Stammtisch
END:VEVENT
BEGIN:VEVENT
DTSTART;TZID=Europe/Berlin:20261216T193000
DTEND;TZID=Europe/Berlin:20261216T213000
DTSTAMP:20260426T015108
CREATED:20260102T115934Z
LAST-MODIFIED:20260102T115934Z
UID:7051-1797449400-1797456600@darc-h24.de
SUMMARY:OV-Abend mit Online-Übertragung
DESCRIPTION:Einwahl für Mitglieder via https://treff.darc.de/d/#/Teilnehmer/UkJZfEpb ab 19:15 Uhr möglich. Der Link wird auch mit der Einladung verteilt. \nFür Gäste ist eine Einwahl über den folgenden Link möglich:\nhttps://treff.darc.de/d/#/Gastlink/Z0c0xHZT
URL:https://darc-h24.de/event/ov-abend-mit-online-uebertragung-10/
LOCATION:Alter Dorfkrug am Kanal\, Knüppeldamm 9\, Wolfsburg\, 38442\, Deutschland
CATEGORIES:OV-Abende
END:VEVENT
BEGIN:VEVENT
DTSTART;TZID=Europe/Berlin:20261226T093000
DTEND;TZID=Europe/Berlin:20261226T115900
DTSTAMP:20260426T015108
CREATED:20260104T123459Z
LAST-MODIFIED:20260104T123459Z
UID:7094-1798277400-1798286340@darc-h24.de
SUMMARY:Weihnachtscontest
DESCRIPTION:
URL:https://darc-h24.de/event/weihnachtscontest/
END:VEVENT
END:VCALENDAR