BEGIN:VCALENDAR
VERSION:2.0
PRODID:-//Deutscher Amateur-Radio-Club e. V. H24 - ECPv6.15.20//NONSGML v1.0//EN
CALSCALE:GREGORIAN
METHOD:PUBLISH
X-WR-CALNAME:Deutscher Amateur-Radio-Club e. V. H24
X-ORIGINAL-URL:https://darc-h24.de
X-WR-CALDESC:Veranstaltungen für Deutscher Amateur-Radio-Club e. V. H24
REFRESH-INTERVAL;VALUE=DURATION:PT1H
X-Robots-Tag:noindex
X-PUBLISHED-TTL:PT1H
BEGIN:VTIMEZONE
TZID:Europe/Berlin
BEGIN:DAYLIGHT
TZOFFSETFROM:+0100
TZOFFSETTO:+0200
TZNAME:CEST
DTSTART:20250330T010000
END:DAYLIGHT
BEGIN:STANDARD
TZOFFSETFROM:+0200
TZOFFSETTO:+0100
TZNAME:CET
DTSTART:20251026T010000
END:STANDARD
BEGIN:DAYLIGHT
TZOFFSETFROM:+0100
TZOFFSETTO:+0200
TZNAME:CEST
DTSTART:20260329T010000
END:DAYLIGHT
BEGIN:STANDARD
TZOFFSETFROM:+0200
TZOFFSETTO:+0100
TZNAME:CET
DTSTART:20261025T010000
END:STANDARD
BEGIN:DAYLIGHT
TZOFFSETFROM:+0100
TZOFFSETTO:+0200
TZNAME:CEST
DTSTART:20270328T010000
END:DAYLIGHT
BEGIN:STANDARD
TZOFFSETFROM:+0200
TZOFFSETTO:+0100
TZNAME:CET
DTSTART:20271031T010000
END:STANDARD
END:VTIMEZONE
BEGIN:VEVENT
DTSTART;VALUE=DATE:20260626
DTEND;VALUE=DATE:20260629
DTSTAMP:20260426T015141
CREATED:20260102T120507Z
LAST-MODIFIED:20260102T120507Z
UID:7058-1782432000-1782691199@darc-h24.de
SUMMARY:HAM Radio Friedrichshafen
DESCRIPTION:https://www.hamradio-friedrichshafen.de/
URL:https://darc-h24.de/event/ham-radio-friedrichshafen/
LOCATION:HAMRADIO Friedrichshafen\, Neue Messe 1\, Friedrichshafen\, 88046\, Deutschland
CATEGORIES:DARC,Messen & Flohmärkte
END:VEVENT
END:VCALENDAR